BEGIN:VCALENDAR
VERSION:2.0
BEGIN:VEVENT
DTSTART:20260424T140000Z
DTEND:20260426T191500Z
LOCATION:1910 Ocean Way\, Santa Monica\, CA 90405
DESCRIPTION:Register now for the 42nd Annual UCLA Carl M. Pearson Memorial Symposium: Frontiers of Rheumatology\, taking place April 24–26\, 2026\, at the Hotel Casa Del Mar\, Santa Monica\, CA.\n\nThis year’s program delivers a focused\, comprehensive update on the diagnosis\, management\, and evolving treatment strategies for common and complex rheumatic diseases designed for real-world clinical decision-making.\n\nLed by expert faculty\, the course emphasizes practical guidance you can apply immediately\, with updates on:\n\n 	Evidence-based advances in inflammatory and autoimmune conditions\n 	Biologic and targeted therapies\n 	Challenging cases in clinical practice Emerging research and evolving standards of care\n\nThis 2½-day\, evidence-based program brings together experts in rheumatology\, internal medicine\, and related subspecialties for clinically relevant\, practice-driven education focused on the evaluation and management of rheumatic disease.\n\nJoin us for faculty-led lectures and case-based discussions addressing common and complex rheumatologic conditions across the full spectrum of clinical practice.\n\nRegister HERE\n\nLearn More HERE\n\nOverview: https://connect.uclahealth.org/dom/event/ucla-carl-m-pearson-memorial-symposium/tab/overview/\n
SUMMARY:UCLA Carl M. Pearson Memorial Symposium
END:VEVENT
END:VCALENDAR